BEGIN:VCALENDAR
VERSION:2.0
PRODID:-//wp-events-plugin.com//7.2.3.1//EN
TZID:America/New_York
X-WR-TIMEZONE:America/New_York
BEGIN:VEVENT
UID:26@reyim.org
DTSTART;TZID=America/New_York:20260501T180000
DTEND;TZID=America/New_York:20260501T180000
DTSTAMP:20260419T171300Z
URL:https://www.reyim.org/events/shabbat-reyim-and-graduation-celebration/
SUMMARY:Shabbat Reyim and Graduation Celebration
DESCRIPTION:\n\nJoin us for our last Shabbat Reyim of the season\, with din
 ner prepared by our community members. Kabbalat Shabbat begins at 6:00 p.m
 . followed by dinner and our B'nei Mitzvah program. We will also celebrate
  our graduating high school seniors!\n\n&nbsp\;
END:VEVENT
BEGIN:VTIMEZONE
TZID:America/New_York
X-LIC-LOCATION:America/New_York
BEGIN:DAYLIGHT
DTSTART:20260308T030000
TZOFFSETFROM:-0500
TZOFFSETTO:-0400
TZNAME:EDT
END:DAYLIGHT
END:VTIMEZONE
END:VCALENDAR